BEGIN:VCALENDAR
VERSION:2.0
PRODID:-//hacksw/handcal//NONSGML v1.0//EN
BEGIN:VEVENT
SUMMARY:Mardi 21/04 8h30
UID:de16ba44-01af-4122-9c1b-f084a72f9175
DTSTART:20260420T220000Z
DTEND:20260421T220000Z
LOCATION:Localisation   
CATEGORIES:Sportif
STATUS:
DESCRIPTION:<iframe width="100%" height="650" loading="lazy"
 src="https://www.openrunner.com/embed.html?code=71424d30344c724d6946552f7a3579364e7447706d534b786d39364655572b45454635306867346147624d3d3a3a89da6ae946e655e7188196458b2e054a&lang=fr&unit=metric"
 style="border: none;"></iframe>
URL;VALUE=URI:https://cycloclubbessan.sportsregions.fr/evenements/2026/04/21/mardi-2104-8h30-2442783
END:VEVENT
END:VCALENDAR
