BEGIN:VCALENDAR
VERSION:2.0
PRODID:-//hacksw/handcal//NONSGML v1.0//EN
BEGIN:VEVENT
SUMMARY:Vendredi 17/04 8h30
UID:22d09cc1-3612-47ae-b423-aedf87a0cc07
DTSTART:20260416T220000Z
DTEND:20260417T220000Z
LOCATION:Localisation   
CATEGORIES:Sportif
STATUS:
DESCRIPTION:<iframe width="100%" height="650" loading="lazy"
 src="https://www.openrunner.com/embed.html?code=746a4f4c306c46457937587a757431487646436a4430394b636341436d746c6d4a69684f384c44693874493d3a3a13b7df48c03ca03239107a70b33f6593&lang=fr&unit=metric"
 style="border: none;"></iframe>
URL;VALUE=URI:https://cycloclubbessan.sportsregions.fr/evenements/2026/04/17/vendredi-1704-8h30-2441761
END:VEVENT
END:VCALENDAR
