BEGIN:VCALENDAR
VERSION:2.0
PRODID:-//hacksw/handcal//NONSGML v1.0//EN
BEGIN:VEVENT
SUMMARY:Mardi 14/04 8h30
UID:d9e3b212-01b7-4f97-a9f4-7e0fdb0419e0
DTSTART:20260413T220000Z
DTEND:20260414T220000Z
LOCATION:Localisation   
CATEGORIES:Sportif
STATUS:
DESCRIPTION:<iframe width="100%" height="650" loading="lazy"
 src="https://www.openrunner.com/embed.html?code=544368592b686e72576d577861323931776343614b70336d6b77776953624a4d747466426d4b674942576f3d3a3af80ac168b29fa8e44aca1b23bcdffbc0&lang=fr&unit=metric"
 style="border: none;"></iframe>
URL;VALUE=URI:https://cycloclubbessan.sportsregions.fr/evenements/2026/04/14/mardi-1404-8h30-2440414
END:VEVENT
END:VCALENDAR
