BEGIN:VCALENDAR
VERSION:2.0
PRODID:-//hacksw/handcal//NONSGML v1.0//EN
BEGIN:VEVENT
SUMMARY:Vendredi 10/04 8h30
UID:3af7d1e8-f155-4ba4-b6a2-809b52cac365
DTSTART:20260409T220000Z
DTEND:20260410T220000Z
LOCATION:Localisation   
CATEGORIES:Sportif
STATUS:
DESCRIPTION:<iframe width="100%" height="650" loading="lazy"
 src="https://www.openrunner.com/embed.html?code=6c7855777a7a5678564e594f3638445338645755575a61687a5377363971394e69737a65654c67423246513d3a3a1e24bb2385f41d4866a4519b44c828b7&lang=fr&unit=metric"
 style="border: none;"></iframe>
URL;VALUE=URI:https://cycloclubbessan.sportsregions.fr/evenements/2026/04/10/vendredi-1004-8h30-2439291
END:VEVENT
END:VCALENDAR
