BEGIN:VCALENDAR
VERSION:2.0
PRODID:-//hacksw/handcal//NONSGML v1.0//EN
BEGIN:VEVENT
SUMMARY:Mardi 07/04 8h30
UID:122b99c6-3205-4ff3-8931-00d818224f01
DTSTART:20260406T220000Z
DTEND:20260407T220000Z
LOCATION:Localisation   
CATEGORIES:Sportif
STATUS:
DESCRIPTION:<iframe width="100%" height="650" loading="lazy"
 src="https://www.openrunner.com/embed.html?code=6471526e714d724e674b66377846346f73307a77344c7a4b6d6347425639586e4233796e7a5730736339553d3a3a9c9f49bc66c3dde961d5d11cf718bb61&lang=fr&unit=metric"
 style="border: none;"></iframe>
URL;VALUE=URI:https://cycloclubbessan.sportsregions.fr/evenements/2026/04/07/mardi-0704-8h30-2438161
END:VEVENT
END:VCALENDAR
