BEGIN:VCALENDAR
VERSION:2.0
PRODID:-//hacksw/handcal//NONSGML v1.0//EN
BEGIN:VEVENT
SUMMARY:Vendredi 03/04 8h30
UID:bdf556c7-ca32-4e8f-b6f8-7d85132b4ead
DTSTART:20260402T220000Z
DTEND:20260403T220000Z
LOCATION:Localisation   
CATEGORIES:Sportif
STATUS:
DESCRIPTION:<iframe width="100%" height="650" loading="lazy"
 src="https://www.openrunner.com/embed.html?code=547870674a757731313071393676555275644d43345a336e337269734948714953664b58764f71653169453d3a3ac1181cb120b2e11925f6088f21c4dec5&lang=fr&unit=metric"
 style="border: none;"></iframe>
URL;VALUE=URI:https://cycloclubbessan.sportsregions.fr/evenements/2026/04/03/vendredi-0304-8h30-2436587
END:VEVENT
END:VCALENDAR
