BEGIN:VCALENDAR
VERSION:2.0
PRODID:-//hacksw/handcal//NONSGML v1.0//EN
BEGIN:VEVENT
SUMMARY:Mardi 31/03 8h30
UID:f46fc2bf-5335-4b7e-81dd-a065e9436c95
DTSTART:20260330T220000Z
DTEND:20260331T220000Z
LOCATION:Localisation   
CATEGORIES:Sportif
STATUS:
DESCRIPTION:<iframe width="100%" height="650" loading="lazy"
 src="https://www.openrunner.com/embed.html?code=6453554b7341626d4c554a6c752f4f78726f4769594655514d52364b5537536268614f6771524449472b4d3d3a3a2a65d34a3060c5b917c9abd997f6be57&lang=fr&unit=metric"
 style="border: none;"></iframe>
URL;VALUE=URI:https://cycloclubbessan.sportsregions.fr/evenements/2026/03/31/mardi-3103-8h30-2434373
END:VEVENT
END:VCALENDAR
