BEGIN:VCALENDAR
VERSION:2.0
PRODID:-//hacksw/handcal//NONSGML v1.0//EN
BEGIN:VEVENT
SUMMARY:Vendredi 27/03 8h30
UID:6684c04d-1429-44f8-9a52-834b419adb40
DTSTART:20260326T230000Z
DTEND:20260327T230000Z
LOCATION:Localisation   
CATEGORIES:Sportif
STATUS:
DESCRIPTION:<iframe width="100%" height="650" loading="lazy"
 src="https://www.openrunner.com/embed.html?code=78644d73706131612f71455264544431454d476f5a48695978484c2f4f63794e366b6c47567254586f79303d3a3a0e1c8c4902a363ae1b7c28890c86186f&lang=fr&unit=metric"
 style="border: none;"></iframe>
URL;VALUE=URI:https://cycloclubbessan.sportsregions.fr/evenements/2026/03/27/vendredi-2703-8h30-2433050
END:VEVENT
END:VCALENDAR
