BEGIN:VCALENDAR
VERSION:2.0
PRODID:-//hacksw/handcal//NONSGML v1.0//EN
BEGIN:VEVENT
SUMMARY:Mardi 2403 8h30
UID:fbcf7933-1c04-44d3-8291-e387ed89d2e1
DTSTART:20260323T230000Z
DTEND:20260324T230000Z
LOCATION:Localisation   
CATEGORIES:Sportif
STATUS:
DESCRIPTION:<iframe width="100%" height="650" loading="lazy"
 src="https://www.openrunner.com/embed.html?code=446a43506871497a42385056646341443633744a51744e714d36526259464359654d544c4b6433447972383d3a3a2fbe8e767a7699dc7befe9389f20d53e&lang=fr&unit=metric"
 style="border: none;"></iframe>
URL;VALUE=URI:https://cycloclubbessan.sportsregions.fr/evenements/2026/03/24/mardi-2403-8h30-2431637
END:VEVENT
END:VCALENDAR
