BEGIN:VCALENDAR
VERSION:2.0
PRODID:-//hacksw/handcal//NONSGML v1.0//EN
BEGIN:VEVENT
SUMMARY:Mardi 17/03 8h30
UID:46799526-671c-493f-8988-c71e99be66a9
DTSTART:20260316T230000Z
DTEND:20260317T230000Z
LOCATION:Localisation   
CATEGORIES:Sportif
STATUS:
DESCRIPTION:<iframe width="100%" height="650" loading="lazy"
 src="https://www.openrunner.com/embed.html?code=6957707176726d627361303471304659504e45516b4a6775554e324878614b3067316e2f396e31667550493d3a3a309e155cd7d2090e08f937efb75ad352&lang=fr&unit=metric"
 style="border: none;"></iframe>
URL;VALUE=URI:https://cycloclubbessan.sportsregions.fr/evenements/2026/03/17/mardi-1703-8h30-2427872
END:VEVENT
END:VCALENDAR
