BEGIN:VCALENDAR
VERSION:2.0
PRODID:-//hacksw/handcal//NONSGML v1.0//EN
BEGIN:VEVENT
SUMMARY:Vendredi 13/03 8h30
UID:e0fa10f4-7792-47bd-be93-6eb561493400
DTSTART:20260312T230000Z
DTEND:20260313T230000Z
LOCATION:Localisation   
CATEGORIES:Sportif
STATUS:
DESCRIPTION:<iframe width="100%" height="650" loading="lazy"
 src="https://www.openrunner.com/embed.html?code=63594b373258744d766657694952504d30337a2b716f585566304c7557513578442b576e6b39356d506e493d3a3aaaa90d2759a0c8b8931386243d3cf93e&lang=fr&unit=metric"
 style="border: none;"></iframe>
URL;VALUE=URI:https://cycloclubbessan.sportsregions.fr/evenements/2026/03/13/vendredi-1303-8h30-2426176
END:VEVENT
END:VCALENDAR
